BEGIN:VCALENDAR
VERSION:2.0
PRODID:-//SI Mission Facility - ECPv6.15.17//NONSGML v1.0//EN
CALSCALE:GREGORIAN
METHOD:PUBLISH
X-ORIGINAL-URL:https://staging.simissionfacility.eu
X-WR-CALDESC:Events for SI Mission Facility
REFRESH-INTERVAL;VALUE=DURATION:PT1H
X-Robots-Tag:noindex
X-PUBLISHED-TTL:PT1H
BEGIN:VTIMEZONE
TZID:Europe/Vienna
BEGIN:DAYLIGHT
TZOFFSETFROM:+0100
TZOFFSETTO:+0200
TZNAME:CEST
DTSTART:20250330T010000
END:DAYLIGHT
BEGIN:STANDARD
TZOFFSETFROM:+0200
TZOFFSETTO:+0100
TZNAME:CET
DTSTART:20251026T010000
END:STANDARD
BEGIN:DAYLIGHT
TZOFFSETFROM:+0100
TZOFFSETTO:+0200
TZNAME:CEST
DTSTART:20260329T010000
END:DAYLIGHT
BEGIN:STANDARD
TZOFFSETFROM:+0200
TZOFFSETTO:+0100
TZNAME:CET
DTSTART:20261025T010000
END:STANDARD
BEGIN:DAYLIGHT
TZOFFSETFROM:+0100
TZOFFSETTO:+0200
TZNAME:CEST
DTSTART:20270328T010000
END:DAYLIGHT
BEGIN:STANDARD
TZOFFSETFROM:+0200
TZOFFSETTO:+0100
TZNAME:CET
DTSTART:20271031T010000
END:STANDARD
END:VTIMEZONE
BEGIN:VEVENT
DTSTART;TZID=Europe/Vienna:20260511T173000
DTEND;TZID=Europe/Vienna:20260511T203000
DTSTAMP:20260421T113608
CREATED:20260414T134800Z
LAST-MODIFIED:20260417T055100Z
UID:4918-1778520600-1778531400@staging.simissionfacility.eu
SUMMARY:Reimagining Social Innovation Funding for EU Missions
DESCRIPTION:About the convening\n​Join leading funders and investors from across Europe for a convening hosted by the Social Innovation Mission Facility with partners\, The Commons Hub and Strategic Design Scenarios – bringing together key actors to explore how private and public capital can be catalytically combined to drive mission-oriented social innovation at scale. \n​We will have a dynamic panel discussion featuring voices from across Europe\, examining: \n\n​The trends and emerging models of financing social innovation already shaping the field\n​How to increase flow of capital into EU Mission-aligned social innovation\n​How philanthropic\, public\, and private capital can be combined for greater impact\n​The role of investors and funders in shaping Europe’s social innovation ecosystem\n\n​Our aim is to create a space for honest dialogue\, peer-to-peer connection\, and forward-looking exchange. \n​Expect an energising atmosphere\, plenty of room for conversation\, and the chance to hear perspectives from across the field. Whether you’re already supporting the EU Missions or are curious about the future of social innovation funding\, this is a chance to connect and leave with new ideas to take forward. \n\n​Speakers\n​Panelists will include:\nAmir Rizwan\, London Social Ventures/The Tudor Trust\, UK\nA representative from Trividend (TBC) \n​Moderated by Carly Wickham\, EdelGive/SIX \nFurther speaker details to be shared soon. \n\n​Event details\n​​Date: 11 May\, 2026\nTime: 17.30 – 20.30\nLocation: Brussels near Central Station (Exact location available once registered) \n​​Arrival from 17.30\nTalk/discussion begins at 18.00 \n\n​Register Your Interest\n​Whether you are a philanthropist\, impact investor\, or public funder\, this is an opportunity to connect\, collaborate\, and help shape the next chapter of social innovation in Europe. \n​Places are limited and will be confirmed directly. We encourage early registration\, here: https://luma.com/hudbvsbh \n​We look forward to welcoming you to Brussels. \n 
URL:https://staging.simissionfacility.eu/event/reimagining-social-innovation-funding-for-eu-missions/
LOCATION:Brussels near Central Station (Exact location available once registered)\, Brussels\, Belgium
CATEGORIES:Events by SI Mission Facility,Funders and Investors
ATTACH;FMTTYPE=image/webp:https://staging.simissionfacility.eu/wp-content/uploads/2026/04/reimagining-social-innovation-funding.webp
END:VEVENT
BEGIN:VEVENT
DTSTART;TZID=Europe/Vienna:20260512T123000
DTEND;TZID=Europe/Vienna:20260512T160000
DTSTAMP:20260421T113608
CREATED:20260312T082253Z
LAST-MODIFIED:20260312T104816Z
UID:4780-1778589000-1778601600@staging.simissionfacility.eu
SUMMARY:Workshop:  "Embedding Social Innovation in EU Missions"
DESCRIPTION:Upcoming Workshop:  “Embedding Social Innovation in EU Missions”\n𝘞𝘰𝘳𝘬𝘪𝘯𝘨 𝘰𝘯 𝘵𝘩𝘦 𝘌𝘜 𝘔𝘪𝘴𝘴𝘪𝘰𝘯𝘴 𝘪𝘯 𝘉𝘳𝘶𝘴𝘴𝘦𝘭𝘴? Join the SI-Mission-Facility workshop 𝐄𝐦𝐛𝐞𝐝𝐝𝐢𝐧𝐠 𝐒𝐨𝐜𝐢𝐚𝐥 𝐈𝐧𝐧𝐨𝐯𝐚𝐭𝐢𝐨𝐧 𝐢𝐧 𝐭𝐡𝐞 𝐄𝐔 𝐌𝐢𝐬𝐬𝐢𝐨𝐧𝐬 on 12 May.\n\nThe EU Missions are tackling urgent challenges like climate change\, biodiversity loss\, and ocean pollution\, driving systemic change toward sustainability. But achieving their goals requires more than technology—it demands social innovation to address societal needs in new ways. 𝐁𝐮𝐭 𝐡𝐨𝐰 𝐜𝐚𝐧 𝐬𝐨𝐜𝐢𝐚𝐥 𝐢𝐧𝐧𝐨𝐯𝐚𝐭𝐢𝐨𝐧 𝐛𝐞 𝐦𝐨𝐫𝐞 𝐞𝐟𝐟𝐞𝐜𝐭𝐢𝐯𝐞𝐥𝐲 𝐦𝐨𝐛𝐢𝐥𝐢𝐬𝐞𝐝 𝐭𝐨 𝐚𝐜𝐜𝐞𝐥𝐞𝐫𝐚𝐭𝐞 𝐭𝐡𝐞 𝐢𝐦𝐩𝐥𝐞𝐦𝐞𝐧𝐭𝐚𝐭𝐢𝐨𝐧 𝐨𝐟 𝐭𝐡𝐞 𝐌𝐢𝐬𝐬𝐢𝐨𝐧𝐬?\n\nBased on an analysis of 280 Mission-funded projects\, we’ll share key insights on how social innovation is currently addressed across the five Missions. The session includes an expert panel and group discussions to 𝐞𝐱𝐩𝐥𝐨𝐫𝐞 𝐡𝐨𝐰 𝐭𝐨 𝐛𝐞𝐭𝐭𝐞𝐫 𝐞𝐦𝐛𝐞𝐝 𝐬𝐨𝐜𝐢𝐚𝐥 𝐢𝐧𝐧𝐨𝐯𝐚𝐭𝐢𝐨𝐧 𝐢𝐧 𝐌𝐢𝐬𝐬𝐢𝐨𝐧 𝐩𝐨𝐫𝐭𝐟𝐨𝐥𝐢𝐨𝐬. Together\, we’ll co-develop actionable starting points to strengthen its integration.\n\n🗓️ Tuesday\, 12 May 2026 12:30 – 16:00 CEST\n📍 Brussels\n\nFor:\n▪️ Policy actors shaping and implementing the EU Missions;\n▪️ Researchers and practitioners advising on or contributing to Mission implementation.\n\n\nThis is an invitation-based workshop\, with a number of places available for eligible participants. To participate\, please register via this link: https://forms.gle/5vkVnk4q89sFjQ7F6
URL:https://staging.simissionfacility.eu/event/workshop-embedding-social-innovation-in-eu-missions/
CATEGORIES:Events by SI Mission Facility
END:VEVENT
END:VCALENDAR