BEGIN:VCALENDAR
VERSION:2.0
PRODID:-//SI Mission Facility - ECPv6.15.17//NONSGML v1.0//EN
CALSCALE:GREGORIAN
METHOD:PUBLISH
X-WR-CALNAME:SI Mission Facility
X-ORIGINAL-URL:https://staging.simissionfacility.eu
X-WR-CALDESC:Events for SI Mission Facility
REFRESH-INTERVAL;VALUE=DURATION:PT1H
X-Robots-Tag:noindex
X-PUBLISHED-TTL:PT1H
BEGIN:VTIMEZONE
TZID:Europe/Vienna
BEGIN:DAYLIGHT
TZOFFSETFROM:+0100
TZOFFSETTO:+0200
TZNAME:CEST
DTSTART:20250330T010000
END:DAYLIGHT
BEGIN:STANDARD
TZOFFSETFROM:+0200
TZOFFSETTO:+0100
TZNAME:CET
DTSTART:20251026T010000
END:STANDARD
BEGIN:DAYLIGHT
TZOFFSETFROM:+0100
TZOFFSETTO:+0200
TZNAME:CEST
DTSTART:20260329T010000
END:DAYLIGHT
BEGIN:STANDARD
TZOFFSETFROM:+0200
TZOFFSETTO:+0100
TZNAME:CET
DTSTART:20261025T010000
END:STANDARD
BEGIN:DAYLIGHT
TZOFFSETFROM:+0100
TZOFFSETTO:+0200
TZNAME:CEST
DTSTART:20270328T010000
END:DAYLIGHT
BEGIN:STANDARD
TZOFFSETFROM:+0200
TZOFFSETTO:+0100
TZNAME:CET
DTSTART:20271031T010000
END:STANDARD
END:VTIMEZONE
BEGIN:VEVENT
DTSTART;TZID=Europe/Vienna:20260305T100000
DTEND;TZID=Europe/Vienna:20260305T130000
DTSTAMP:20260421T131925
CREATED:20260212T152600Z
LAST-MODIFIED:20260212T153105Z
UID:4741-1772704800-1772715600@staging.simissionfacility.eu
SUMMARY:Online Exchange Workshop: Co-Creating Impact: Integrating Real-World Actors in Project Implementation
DESCRIPTION:Online Exchange Workshop: Co-Creating Impact: Integrating Real-World Actors in Project Implementation\n\nA highly interactive online exchange for applicants who want actionable good practices for integrating non-scientific beneficiaries (citizens\, SMEs\, public authorities\, NGOs) with scientific partners in EU Missions and Cluster 1/5/6 projects.\n\n\n\n\n\n\n\n\n\n\n\n\n\n\n\n\n\n\n\n\nInteract with a CINEA program coordinator and with EU Missions and Horizon Europe Clusters beneficiaries and hear their first-hand implementation experience.  Join the NCP4Missions exchange workshop to see how to better integrate non-scientific beneficiaries in your projects.  \nA highly interactive online exchange for applicants who want actionable good practices for integrating non-scientific beneficiaries (citizens\, SMEs\, public authorities\, NGOs) with scientific partners in EU Missions and Cluster 1/5/6 projects. Focus is on real operational issues encountered during activities and how different team members approached them. \nThe workshop organised by the NCP4Missions project will bring together experienced project partners\, partners from the newly established Missions consortia National Contact Points\, project coordinators etc. with experience in both Horizon Europe Clusters and Missions projects. Furthermore\, the speakers will represent all aspects of the multiple-helix: public organisations\, academia\, SME\, NGO\, R&I organisation\, citizen organisation.  \nParticipants will be actively involved in engaging and dynamic activities throughout the workshop\, including Q&A sessions where they will be able to ask questions to the speakers and share their own experiences through dedicated Slido sessions. To facilitate participation in the Q&A sessions\, participants may indicate their questions directly in the dedicated section of the registration form. \nThe deadline for registration is 3 March 2026 (EOD). \n\nVisit here the NCP4Missions Website to get more information on the event and to register! \n\n\n 
URL:https://staging.simissionfacility.eu/event/online-exchange-workshop-co-creating-impact-integrating-real-world-actors-in-project-implementation/
CATEGORIES:Events focusing on EU missions
END:VEVENT
END:VCALENDAR